BEGIN:VCALENDAR
VERSION:2.0
PRODID:-//Association Ecole des Avocats - ECPv6.13.2.1//NONSGML v1.0//EN
CALSCALE:GREGORIAN
METHOD:PUBLISH
X-WR-CALNAME:Association Ecole des Avocats
X-ORIGINAL-URL:https://eda-reunion-mayotte.fr
X-WR-CALDESC:Évènements pour Association Ecole des Avocats
REFRESH-INTERVAL;VALUE=DURATION:PT1H
X-Robots-Tag:noindex
X-PUBLISHED-TTL:PT1H
BEGIN:VTIMEZONE
TZID:Indian/Reunion
BEGIN:STANDARD
TZOFFSETFROM:+0400
TZOFFSETTO:+0400
TZNAME:+04
DTSTART:20250101T000000
END:STANDARD
END:VTIMEZONE
BEGIN:VEVENT
DTSTART;TZID=Indian/Reunion:20251203T140000
DTEND;TZID=Indian/Reunion:20251203T170000
DTSTAMP:20260423T145616
CREATED:20251115T133316Z
LAST-MODIFIED:20260107T115147Z
UID:15550-1764770400-1764781200@eda-reunion-mayotte.fr
SUMMARY:Préjudice corporel
DESCRIPTION:Intervenants :  \n\n\n\n\n\nMonsieur Cahuzac (Représentant du Fond de garantie)\n\n\n\n\n\nThèmes traités lors de la formation :  \n\n\n\n\n\nPréjudice corporel\n\nPrérequis pour participer à la formation : \n\n\n\n\n\n\n\n\n\nAVOCAT\, tous niveaux\n\n\n\n\n\n\n\n\n\nObjectifs poursuivis par la formation : \n\nApprofondir la maîtrise du cadre juridique applicable à la réparation du dommage corporel\, tant en matière de responsabilité civile que dans les régimes spécifiques (accidents de la circulation\, accidents médicaux\, etc.).\nAcquérir une méthodologie rigoureuse pour le traitement des dossiers de victimes avec le fonde de garantie\nAnalyser et exploiter les expertises médicales dans un contexte judiciaire ou amiable\nÉvaluer les préjudices selon la nomenclature Dintilhac et les pratiques jurisprudentielles en vigueur.\nDévelopper des stratégies contentieuses ou de négociations efficaces avec les assureurs\, fonds d’indemnisation ou autres parties adverses.\nAdapter sa pratique aux évolutions jurisprudentielles et doctrinales en matière de réparation du dommage corporel.\nRenforcer sa posture d’accompagnement des victimes\, en tenant compte des enjeux humains\, psychologiques et éthiques liées à ce contentieux.\n\n\n\n\n\nDate / durée :  \n\nDate : 3 décembre 2025\nDurée : 3h\nHoraires: 14h-17h\n\nModalités et délais d’accès :  \nLieu de la formation : Hôtel Dina Morgabine\n1 Rue Issop Ravate\n97400 Saint-Denis \nInscription et paiement : obligatoirement via le site internet de l’EDA REUNION-MAYOTTE \nTarifs : 50€ \nContacts :  \ncontact@eda-reunion-mayotte.fr\nEDA REUNION MAYOTTTE\n24 rue Jean Cocteau\n97490 SAINTE-CLOTILDE \nMéthodes mobilisées et modalités d’évaluation : \nModalités d’évaluation : questionnaire écrit de fin de formation corrigé par le formateur en fin de formation. \nAccessibilité aux personnes handicapées :  \nFormation accessible aux personnes handicapées (tous handicaps)
URL:https://eda-reunion-mayotte.fr/event/prejudice-corporel/
LOCATION:Hotel Dina Morgabine\, 1 rue Issop Ravate\, Saint-Denis\, 97400\, Reunion
CATEGORIES:Générale
ATTACH;FMTTYPE=image/jpeg:https://eda-reunion-mayotte.fr/wp-content/uploads/2019/03/hush-naidoo-382152-unsplash.jpg
END:VEVENT
BEGIN:VEVENT
DTSTART;TZID=Indian/Reunion:20251205T090000
DTEND;TZID=Indian/Reunion:20251205T170000
DTSTAMP:20260423T145616
CREATED:20250902T133239Z
LAST-MODIFIED:20260107T121213Z
UID:14787-1764925200-1764954000@eda-reunion-mayotte.fr
SUMMARY:Bien vivre son métier d'avocat
DESCRIPTION:Intervenants :  \n\n\n\n\n\nMonsieur Didier ROUSSEAU\, Coach professionnel RNCP – Ancien Avocat\n\n\n\n\n\nThèmes traités lors de la formation :  \n\n\n\n\n\nDéontologie\n\nPrérequis pour participer à la formation : \n\n\n\n\n\n\n\n\n\nAVOCAT\, tous niveaux\n\n\n\n\n\n\n\n\n\nObjectifs poursuivis par la formation : \n\nRegain d’élan et des clés pour bien avancer dans le métier d’avocat\nFaciliter le mieux vivre avec soi et avec l’autre\n\n\n\n\n\nDate / durée :  \n\nDate : 5 décembre 2025\nDurée : 6h\nHoraires: 9h – 12h puis 14h-17h\nAccueil des participants des 8.30 avec pause-café et viennoiseries\n\nModalités et délais d’accès :  \nLieu de la formation : Hôtel LE LUX\n28 Rue du Lagon\, L’Hermitage\,\n97434 Saint-Gilles-Les-Bains \nInscription et paiement : obligatoirement via le site internet de l’EDA REUNION-MAYOTTE \nTarifs : 100€ \nContacts :  \ncontact@eda-reunion-mayotte.fr\nEDA REUNION MAYOTTTE\n24 rue Jean Cocteau\n97490 SAINTE-CLOTILDE \nMéthodes mobilisées et modalités d’évaluation : \nModalités d’évaluation : questionnaire écrit de fin de formation corrigé par le formateur en fin de formation. \nAccessibilité aux personnes handicapées :  \nFormation accessible aux personnes handicapées (tous handicaps)
URL:https://eda-reunion-mayotte.fr/event/bien-vivre-son-metier-davocat/
LOCATION:Hôtel LUX\, 28 rue du Lagon\, Saint Gilles Les Bains\, 97434\, Réunion
CATEGORIES:Déontologie
ATTACH;FMTTYPE=image/jpeg:https://eda-reunion-mayotte.fr/wp-content/uploads/2019/03/helloquence-61189-unsplash.jpg
END:VEVENT
BEGIN:VEVENT
DTSTART;TZID=Indian/Reunion:20251212T090000
DTEND;TZID=Indian/Reunion:20251212T174500
DTSTAMP:20260423T145616
CREATED:20251115T134552Z
LAST-MODIFIED:20260107T122205Z
UID:15554-1765530000-1765561500@eda-reunion-mayotte.fr
SUMMARY:Le contrôle coercitif
DESCRIPTION:Intervenants :  \n\n\n\n\n\nAndreea Gruev-Vintila\, Maitre de conférences HDR en psychologie sociale à l’université de Paris-Nanterre\, membre du Laboratoire parisien de psychologie sociale & Équipe éducation familiale et interventions sociales\, Membre du Haut Conseil à l’égalité entre les femmes et les hommes\, autrice de Le contrôle coercitif : au cœur de la violence conjugale (Dunod\, 2023).\nhttps://www.parisnanterre.fr/mme-andreea-vintila-gruev-vintila\n\n\n\n\n\nThèmes traités lors de la formation :  \n\n\n\n\n\nLe contrôle coercitif\n\nPrérequis pour participer à la formation : \n\n\n\n\n\n\n\n\n\nAVOCAT\, tous niveaux\n\n\n\n\n\n\n\n\n\nObjectifs poursuivis par la formation : \n\nComprendre le contrôle coercitif ;\nPouvoir repérer le contrôle coercitif exercé par l’auteur de violences au sein du couple ;\nPouvoir identifier l’impact sur la victime adulte et l’enfant ; Pouvoir fixer des objectifs adaptés d’enquête et d’évaluation médico-légale et psychosociale permettant de prouver ou d’infirmer le contrôle coercitif ;\nPouvoir identifier les enjeux pour les professionnels exposés à une situation de contrôle coercitif\n\n\n\n\n\nDate / durée :  \n\nDate : 12 décembre 2025\nDurée : 7h45\nHoraires: 9h-12h30 – 13h30-17h45\n\nModalités et délais d’accès :  \nLieu de la formation : Sur Saint-Denis mais le lieu est à confirmer \nInscription et paiement : obligatoirement via le site internet de l’EDA REUNION-MAYOTTE \nTarifs : 100€ \nContacts :  \ncontact@eda-reunion-mayotte.fr\nEDA REUNION MAYOTTTE\n24 rue Jean Cocteau\n97490 SAINTE-CLOTILDE \nMéthodes mobilisées et modalités d’évaluation : \nModalités d’évaluation : questionnaire écrit de fin de formation corrigé par le formateur en fin de formation. \nAccessibilité aux personnes handicapées :  \nFormation accessible aux personnes handicapées (tous handicaps)
URL:https://eda-reunion-mayotte.fr/event/le-controle-coercitif/
CATEGORIES:Générale
ATTACH;FMTTYPE=image/jpeg:https://eda-reunion-mayotte.fr/wp-content/uploads/2019/05/jason-wong-502099-unsplash-small.jpg
END:VEVENT
END:VCALENDAR