BEGIN:VCALENDAR
VERSION:2.0
PRODID:-//Association Ecole des Avocats - ECPv6.13.2.1//NONSGML v1.0//EN
CALSCALE:GREGORIAN
METHOD:PUBLISH
X-ORIGINAL-URL:https://eda-reunion-mayotte.fr
X-WR-CALDESC:Évènements pour Association Ecole des Avocats
REFRESH-INTERVAL;VALUE=DURATION:PT1H
X-Robots-Tag:noindex
X-PUBLISHED-TTL:PT1H
BEGIN:VTIMEZONE
TZID:Indian/Reunion
BEGIN:STANDARD
TZOFFSETFROM:+0400
TZOFFSETTO:+0400
TZNAME:+04
DTSTART:20250101T000000
END:STANDARD
END:VTIMEZONE
BEGIN:VEVENT
DTSTART;TZID=Indian/Reunion:20250307T140000
DTEND;TZID=Indian/Reunion:20250307T170000
DTSTAMP:20260423T224929
CREATED:20250224T120627Z
LAST-MODIFIED:20250425T143846Z
UID:14229-1741356000-1741366800@eda-reunion-mayotte.fr
SUMMARY:Principes directeurs de la Justice pénale des mineurs et assistance des mineurs pendant la phase d’enquête
DESCRIPTION:Intervenants :  \n\n\n\n\n\nMe Catherine MOISSONNIER\nMe Sarah DAVERIO\n\n\n\n\n\nThèmes traités lors de la formation :  \n\n\n\n\n\nPrincipes généraux du droit pénal et de la procédure pénales applicables aux mineurs\nAssistance des mineurs en garde à vue et en audition libre (assistance obligatoire\, examen médical\, place des parents\,…)\n\nPrérequis pour participer à la formation : \n\n\n\n\n\n\n\n\n\nAvocat \, tous niveaux\n\n\n\n\n\n\n\n\n\nObjectifs poursuivis par la formation : \n\nConnaître les principes régissant spécifiquement la Justice pénale des mineurs\nMaîtriser ces spécificités de la Justice pénale des mineurs au stade de l’enquête pénale\n\n\n\n\n\nDate / durée :  \n\nDate : 7 mars 2025\nDurée : 3h\nHoraires: 14h-17h\n\nModalités et délais d’accès :  \nLieu de la formation :\nTribunal judiciaire de Saint-Denis\nSalle d’audience n°4 \nInscription et paiement : obligatoirement via le site internet de l’EDA REUNION-MAYOTTE \nTarifs : 30€ \nContacts :  \ncontact@eda-reunion-mayotte.fr\nEDA REUNION MAYOTTTE\n24 rue Jean Cocteau\n97490 SAINTE-CLOTILDE \nMéthodes mobilisées et modalités d’évaluation : \n\n\n\n\nQuestionnaire écrit en auto correction à la fin de la formation \n\n\n\n\nAccessibilité aux personnes handicapées :  \nFormation accessible aux personnes handicapées (tous handicaps)
URL:https://eda-reunion-mayotte.fr/event/principes-directeurs-de-la-justice-penale-des-mineurs-et-assistance-des-mineurs-pendant-la-phase-denquete/
LOCATION:Saint-Denis – Tribunal de Grande Instance\, 5 Avenue André Malraux\, Saint-Denis\, 97400\, Réunion
CATEGORIES:Droit pénal
ATTACH;FMTTYPE=image/jpeg:https://eda-reunion-mayotte.fr/wp-content/uploads/2019/05/shutterstock_165056954.jpg
END:VEVENT
BEGIN:VEVENT
DTSTART;TZID=Indian/Reunion:20250313T090000
DTEND;TZID=Indian/Reunion:20250313T120000
DTSTAMP:20260423T224929
CREATED:20250309T165301Z
LAST-MODIFIED:20250425T150307Z
UID:14283-1741856400-1741867200@eda-reunion-mayotte.fr
SUMMARY:Les matinées de l’immobilier : le PLU bio-climatique
DESCRIPTION:Intervenants :  \n\n\n\n\n\nM. RADIGUET\, maître de conférence droit public\, université de la Réunion\nMe Aurore DOULOUMA\, avocate au barreau de Saint-Denis\nMme HUGRET\, adjointe au chef aménagement\, planification et projet DEAL\nM. KERENEUR\, chef unité aménagement\, planification et projet\, DEAL\nM. HILLAIRET\, directeur du service urbanisme et ADS\, ville de saint-pierre\n\n\n\n\n\nThèmes traités lors de la formation :  \n\n\n\n\n\nPropos généraux : qu’est qu’un PLU bioclimatique au regard du cadre juridique en vigueur\nLa prise en compte des questions environnementales dans les OAP de la Réunion\nLe contentieux environnemental des PLU\nLe PLU bioclimatique\, un PLU comme les autres ?\nPrésentation de l’éco-PLU de la ville de Saint-Pierre\n\nPrérequis pour participer à la formation : \n\n\n\n\n\n\n\n\n\nAvocat \, tous niveaux\n\n\n\n\n\n\n\n\n\n\n\n\nDate / durée :  \n\nDate : 13 mars 2025\nDurée : 3h\nHoraires: 9h00 – 12h\n\nModalités et délais d’accès :  \nLieu de la formation :\,Amphithéâtre 177 Parc Technologique Universitaire \nInscription et paiement : obligatoirement via le site internet de l’EDA REUNION-MAYOTTE \nTarifs : 0€ \nContacts :  \ncontact@eda-reunion-mayotte.fr\nEDA REUNION MAYOTTTE\n24 rue Jean Cocteau\n97490 SAINTE-CLOTILDE \nAccessibilité aux personnes handicapées :  \nFormation accessible aux personnes handicapées (tous handicaps)
URL:https://eda-reunion-mayotte.fr/event/les-matinees-de-limmobilier-le-plu-bio-climatique/
LOCATION:Parc Technologique Universitaire
CATEGORIES:Droit immobilier
ATTACH;FMTTYPE=image/jpeg:https://eda-reunion-mayotte.fr/wp-content/uploads/2019/04/maarten-van-den-heuvel-73123-unsplash.jpg
END:VEVENT
BEGIN:VEVENT
DTSTART;TZID=Indian/Reunion:20250328T083000
DTEND;TZID=Indian/Reunion:20250328T113000
DTSTAMP:20260423T224929
CREATED:20250319T090656Z
LAST-MODIFIED:20250425T150826Z
UID:14302-1743150600-1743161400@eda-reunion-mayotte.fr
SUMMARY:Je m’installe en EI : Formalités\, fiscalité et gestion de cabinet à destination des jeunes avocats
DESCRIPTION:Intervenants :  \n\n\n\n\n\nMe Amélie FIGUEROA\nMe Pacôme PRETET\n\n\n\n\n\nThèmes traités lors de la formation :  \n\n\n\n\nDémarche de création et fonctionnement d’une entreprise individuelle à destination des jeunes avocats\, : obligations en matière de comptabilité (Micro\, Réel\, …)\, de fiscalité (IR\, BNC\, TVA\, CFE)\, de facturation et de gestion (URSSAF\, CNBF\, CNB\, Ordre\, trésorerie\, …)\, etc. Exemples pratiques \nPrérequis pour participer à la formation : \n\n\n\n\n\n\n\n\n\nAvocat \, tous niveaux\n\n\n\n\n\n\n\n\n\nObjectifs poursuivis par la formation : \n\nDisposer de l’éventail des démarches à accomplir lors de l’installation ou lors d’un changement de lieu d’exercice ;\nIdentifier ses obligations comptables ;\nMaitriser ses obligations en termes de facturation ;\nMaîtriser la fiscalité : BNC\, micro et réel ; TVA CFE ; déclaration de revenu ;\nMaitriser la gestion de ses charges : URSSAF\, CNBF\, CNB\, Ordre.\n\n\n\n\n\nDate / durée :  \n\nDate : 28 mars 2025\nDurée : 3h\nHoraires: 8h30 – 11h30\n\nModalités et délais d’accès :  \nLieu de la formation : Maison de l’avocat \nInscription et paiement : obligatoirement via le site internet de l’EDA REUNION-MAYOTTE \nTarifs : 30€ \nContacts :  \ncontact@eda-reunion-mayotte.fr\nEDA REUNION MAYOTTTE\n24 rue Jean Cocteau\n97490 SAINTE-CLOTILDE \nMéthodes mobilisées et modalités d’évaluation : \n\n\n\n\n\nMéthodes de formation mobilisées : Présentation de la formation (format type conférence avec PowerPoint communiqué en fin de formation le cas échéant) suivi d’une séance de question avec les avocats présents.\nModalités d’évaluation : Questionnaire rapide de type QCM\n\n\n\n\n\nAccessibilité aux personnes handicapées :  \nFormation accessible aux personnes handicapées (tous handicaps)
URL:https://eda-reunion-mayotte.fr/event/je-minstalle-en-ei-formalites-fiscalite-et-gestion-de-cabinet-a-destination-des-jeunes-avocats/
LOCATION:Saint-Denis – Maison de l’Avocat\, 24 Rue Jean Cocteau\, Saint-Denis\, 97400\, Réunion
CATEGORIES:Générale
ATTACH;FMTTYPE=image/jpeg:https://eda-reunion-mayotte.fr/wp-content/uploads/2019/05/jason-wong-502099-unsplash-small.jpg
END:VEVENT
END:VCALENDAR