BEGIN:VCALENDAR
VERSION:2.0
PRODID:-//Association Ecole des Avocats - ECPv6.13.2.1//NONSGML v1.0//EN
CALSCALE:GREGORIAN
METHOD:PUBLISH
X-WR-CALNAME:Association Ecole des Avocats
X-ORIGINAL-URL:https://eda-reunion-mayotte.fr
X-WR-CALDESC:Évènements pour Association Ecole des Avocats
REFRESH-INTERVAL;VALUE=DURATION:PT1H
X-Robots-Tag:noindex
X-PUBLISHED-TTL:PT1H
BEGIN:VTIMEZONE
TZID:Indian/Reunion
BEGIN:STANDARD
TZOFFSETFROM:+0400
TZOFFSETTO:+0400
TZNAME:+04
DTSTART:20240101T000000
END:STANDARD
END:VTIMEZONE
BEGIN:VEVENT
DTSTART;TZID=Indian/Reunion:20241206T090000
DTEND;TZID=Indian/Reunion:20241206T170000
DTSTAMP:20260423T143109
CREATED:20241114T072216Z
LAST-MODIFIED:20241216T110520Z
UID:14033-1733475600-1733504400@eda-reunion-mayotte.fr
SUMMARY:Déontologie / Gestion de Cabinet
DESCRIPTION:Intervenants :  \n\n\n\n\nMonsieur Didier ROUSSEAU\, Coach professionnel RNCP – Ancien Avocat \n\n\n\n\nThèmes traités lors de la formation :  \n\n\n\n\nEfficacité et organisation de son temps et de son travail : \n\nBien s’organiser : To do list / Planifier / Prioriser / Retroplanning / …\nRester concentré : Gérer les mails / les tentations / les interruptions\, / le temps\, …\nAccélérer parfois : Automatiser / loi de Pareto / loi de Parkinson / déléguer\, …\n\nRentabilité\, gestion comptable et facturation : \n\nCalcul du point mort / de la facturation par mois à atteindre\nDes clés pour mieux facturer : Conscientiser la valeur de son travail / Importance du 1er rdv / Bien plaider ses honoraires …\n\nProspérité\, positionnement et communication : \n\nChoix à poser : généraliste ou spécialiste / type de clientèle…\nReconnaître ses talents / Faire savoir son savoir-faire / …\n\nSérénité et équilibre : \n\nPoser des limites à sa vie professionnelle / se respecter…\nEtre dans l’instant / …\n\nConclusions interactives \nPrérequis pour participer à la formation : \n\n\n\n\n\n\n\n\n\nAvocat \, tous niveaux\n\n\n\n\n\n\n\n\n\nObjectifs poursuivis par la formation : \n\nAméliorer son organisation au travail\nOptimiser sa facturation\nDévelopper son activité\nTravailler plus sereinement\n\n\n\n\n\nDate / durée :  \n\nDate : 6 décembre 2024\nDurée : 6h\nHoraires: 9h – 12h et 14h – 17h\nAccueil des participants dès 8h30 avec pause-café et viennoiseries\n\nModalités et délais d’accès :  \nLieu de la formation : TAMARUN SPL\n8 rue des Argonautes – 97434 La Saline Les Bains\nSalle N°1 « Grande Chaloupe » \nInscription et paiement : obligatoirement via le site internet de l’EDA REUNION-MAYOTTE \nTarifs : 100€ \nContacts :  \ncontact@eda-reunion-mayotte.fr\nEDA REUNION MAYOTTTE\n24 rue Jean Cocteau\n97490 SAINTE-CLOTILDE \nMéthodes mobilisées et modalités d’évaluation : \n\n\n\n\n\nModalités d’évaluation : questionnaire écrit de fin de formation corrigé par le formateur.\n\n\n\n\n\nAccessibilité aux personnes handicapées :  \nFormation accessible aux personnes handicapées (tous handicaps)
URL:https://eda-reunion-mayotte.fr/event/deontologie-gestion-de-cabinet/
LOCATION:Saint Gilles – Espace TAMARUN\, 8 rue des Argonautes\, Saint Gilles Les Bains\, 97434\, Réunion
CATEGORIES:Déontologie
ATTACH;FMTTYPE=image/jpeg:https://eda-reunion-mayotte.fr/wp-content/uploads/2019/03/helloquence-61189-unsplash.jpg
END:VEVENT
BEGIN:VEVENT
DTSTART;TZID=Indian/Reunion:20241218T180000
DTEND;TZID=Indian/Reunion:20241218T220000
DTSTAMP:20260423T143109
CREATED:20241125T101304Z
LAST-MODIFIED:20250210T144255Z
UID:14108-1734544800-1734559200@eda-reunion-mayotte.fr
SUMMARY:Intelligence artificielle pour les métiers du droit
DESCRIPTION:Intervenants :  \n\n\n\n\nGuillaume CLEMENT \n\n\n\n\nThèmes traités lors de la formation :  \n\n\n\n\nIntelligence artificielle\, LLM\, RAG\, open data\, éthique \nPrérequis pour participer à la formation : \n\n\n\n\n\n\n\n\n\nAvocat \, tous niveaux\n\n\n\n\n\n\n\n\n\nObjectifs poursuivis par la formation : \n\nComprendre le fonctionnement des IA juridiques et des LLM\nCerner les objectifs en matière d’IA des éditeurs juridiques\nDégager les bons réflexes en termes de confidentialité et données clients dans les échanges avec l’IA\n\n\n\n\n\nDate / durée :  \n\nDate : 18 décembre 2024\nDurée : 4h\nHoraires: 18h – 22h\n\nModalités et délais d’accès :  \nLieu de la formation : LE KERVEGUEN\, Saint-Pierre \nInscription et paiement : obligatoirement via le site internet de l’EDA REUNION-MAYOTTE \nTarifs : 20€ \nContacts :  \ncontact@eda-reunion-mayotte.fr\nEDA REUNION MAYOTTTE\n24 rue Jean Cocteau\n97490 SAINTE-CLOTILDE \nMéthodes mobilisées et modalités d’évaluation : \n\n\n\n\n\nEchanges d’expériences\nQCM en ligne\nModalités d’évaluation : questionnaire écrit de fin de formation corrigé par le formateur.\n\n\n\n\n\nAccessibilité aux personnes handicapées :  \nFormation accessible aux personnes handicapées (tous handicaps)
URL:https://eda-reunion-mayotte.fr/event/intelligence-artificielle-pour-les-metiers-du-droit/
LOCATION:Le Kerveguen\, 1 rue de la gendarmerie\, Saint-Pierre\, 97410\, Réunion
CATEGORIES:Générale
ATTACH;FMTTYPE=image/jpeg:https://eda-reunion-mayotte.fr/wp-content/uploads/2019/04/maarten-van-den-heuvel-73123-unsplash.jpg
END:VEVENT
END:VCALENDAR