BEGIN:VCALENDAR
VERSION:2.0
PRODID:-//Association Ecole des Avocats - ECPv6.13.2.1//NONSGML v1.0//EN
CALSCALE:GREGORIAN
METHOD:PUBLISH
X-ORIGINAL-URL:https://eda-reunion-mayotte.fr
X-WR-CALDESC:Évènements pour Association Ecole des Avocats
REFRESH-INTERVAL;VALUE=DURATION:PT1H
X-Robots-Tag:noindex
X-PUBLISHED-TTL:PT1H
BEGIN:VTIMEZONE
TZID:Indian/Reunion
BEGIN:STANDARD
TZOFFSETFROM:+0400
TZOFFSETTO:+0400
TZNAME:+04
DTSTART:20240101T000000
END:STANDARD
END:VTIMEZONE
BEGIN:VEVENT
DTSTART;TZID=Indian/Reunion:20240514T170000
DTEND;TZID=Indian/Reunion:20240514T200000
DTSTAMP:20260423T190550
CREATED:20240410T084333Z
LAST-MODIFIED:20240410T084410Z
UID:13524-1715706000-1715716800@eda-reunion-mayotte.fr
SUMMARY:Droit de la Famille : "La pratique du mariage à Mayotte"
DESCRIPTION:Intervenants :  \n\n\n\n\n\nFAYSSOILI SAINDOU\, Doctorant en droit privé à l’Université de Rouen\, sous la codirection des Professeures Valérie Parisot et Elise Ralser\nCÉLINE KUHN\, Maître de conférences HDR en droit privé à La Réunion\n\n\n\n\n\nThèmes traités lors de la formation :  \n\n\n\n\nDROIT DE LA FAMILLE :  « La pratique du mariage à Mayotte » \n\n\n\n\nPrérequis pour participer à la formation :  \n\n\n\n\n\nAvocat \, tous niveaux\n\n\n\n\n\n\n\n\n\nObjectifs poursuivis par la formation : \nObtenir les bons réflexes en matière de droit de la famille  sur la pratique du mariage à Mayotte au vue des spécificités locales. \n\n\n\n\nDate / durée :  \n\nDate : 14 mai 2024\nDurée : 3h\nHoraires: 17h – 20h\n\nModalités et délais d’accès :  \nLieu de la formation : Faculté de Droit et d’Economie de DAOUDZI (salle des conseils) \nInscription et paiement : obligatoirement via le site internet de l’EDA REUNION-MAYOTTE \nTarifs : gratuit \nContacts :  \ncontact@eda-reunion-mayotte.fr\nEDA REUNION MAYOTTTE\n24 rue Jean Cocteau\n97490 SAINTE-CLOTILDE \nMéthodes mobilisées et modalités d’évaluation :  \n\n\n\n\n\nMéthodes de formation mobilisées : Exposés des grands principes par les intervenants et échanges avec les participants.\nModalités d’évaluation : questionnaire oral de fin de formation corrigé par le formateur.\n\n\n\n\n\nAccessibilité aux personnes handicapées :  \nFormation accessible aux personnes handicapées (tous handicaps)
URL:https://eda-reunion-mayotte.fr/event/droit-de-la-famille-la-pratique-du-mariage-a-mayotte/
LOCATION:Faculté de Droit et d’Economie de DZAOUDZI (salle des conseils)
CATEGORIES:Droit de la famille, des personnes et de leur patrimoine
ATTACH;FMTTYPE=image/jpeg:https://eda-reunion-mayotte.fr/wp-content/uploads/2018/01/event_ticket_wordpress_theme_5.jpg
END:VEVENT
BEGIN:VEVENT
DTSTART;TZID=Indian/Reunion:20240517T133000
DTEND;TZID=Indian/Reunion:20240517T163000
DTSTAMP:20260423T190551
CREATED:20240507T104834Z
LAST-MODIFIED:20240528T061331Z
UID:13612-1715952600-1715963400@eda-reunion-mayotte.fr
SUMMARY:Droit des étrangers : Modalités d’organisation de la permanence droits des étrangers et fondamentaux de la rétention administrative
DESCRIPTION:Intervenants :  \n\n\n\n\n\nMe Nacima DJAFOUR\nMe Mihidoiri ALI\nMe Louis Weinling Gaze\n\n\n\n\n\nThèmes traités lors de la formation :  \n\n\n\n\n\nFonctionnement de la permanence\nEn bref : les fondamentaux du droit des étrangers\nLa retenue pour vérification du droit au séjour\nLe contentieux de la rétention administrative (volet judiciaire)\nLe contentieux de l’OQTF (volet administratif)\nLes différents acteurs et intervenants\n\n\n\n\n\nPrérequis pour participer à la formation :  \n\n\n\n\n\nAvocat \, tous niveaux\n\n\n\n\n\n\n\n\n\nObjectifs poursuivis par la formation : \nObtenir les bons réflexes en matière de retenue administrative pour vérification du droit au séjour\, placement en rétention administrative\, contentieux de l’OQTF \n\n\n\n\nDate / durée :  \n\nDate : 17 mai 2024\nDurée : 3h\nHoraires: 13h30 – 16h30\n\nModalités et délais d’accès :  \nLieu de la formation : salle CPH du Tribunal Judiciaire de Saint Denis \nInscription et paiement : obligatoirement via le site internet de l’EDA REUNION-MAYOTTE \nTarifs : gratuit \nContacts :  \ncontact@eda-reunion-mayotte.fr\nEDA REUNION MAYOTTTE\n24 rue Jean Cocteau\n97490 SAINTE-CLOTILDE \nMéthodes mobilisées et modalités d’évaluation :  \n\n\n\n\n\nMéthodes de formation mobilisées : Exposés des grands principes par les intervenants et échanges avec les participants.\nModalités d’évaluation : questionnaire oral de fin de formation corrigé par le formateur.\n\n\n\n\n\nAccessibilité aux personnes handicapées :  \nFormation accessible aux personnes handicapées (tous handicaps)
URL:https://eda-reunion-mayotte.fr/event/droit-des-etrangers-modalites-dorganisation-de-la-permanence-droits-des-etrangers-et-fondamentaux-de-la-retention-administrative/
LOCATION:Saint-Denis – Tribunal de Grande Instance\, 5 Avenue André Malraux\, Saint-Denis\, 97400\, Réunion
CATEGORIES:Droit des étrangers et de la nationalité
ATTACH;FMTTYPE=image/jpeg:https://eda-reunion-mayotte.fr/wp-content/uploads/2019/05/jason-wong-502099-unsplash-small.jpg
END:VEVENT
END:VCALENDAR