BEGIN:VCALENDAR
VERSION:2.0
PRODID:-//Association Ecole des Avocats - ECPv6.13.2.1//NONSGML v1.0//EN
CALSCALE:GREGORIAN
METHOD:PUBLISH
X-ORIGINAL-URL:https://eda-reunion-mayotte.fr
X-WR-CALDESC:Évènements pour Association Ecole des Avocats
REFRESH-INTERVAL;VALUE=DURATION:PT1H
X-Robots-Tag:noindex
X-PUBLISHED-TTL:PT1H
BEGIN:VTIMEZONE
TZID:Indian/Reunion
BEGIN:STANDARD
TZOFFSETFROM:+0400
TZOFFSETTO:+0400
TZNAME:+04
DTSTART:20200101T000000
END:STANDARD
END:VTIMEZONE
BEGIN:VEVENT
DTSTART;TZID=Indian/Reunion:20200320T140000
DTEND;TZID=Indian/Reunion:20200320T160000
DTSTAMP:20260425T154120
CREATED:20200222T143018Z
LAST-MODIFIED:20200727T153634Z
UID:7242-1584712800-1584720000@eda-reunion-mayotte.fr
SUMMARY:[Reporté] Atelier déontologie et droit pénal : les relations avocats-magistrats-OPJ-presse
DESCRIPTION:Reporté pour cause de Corona virus – la date sera fixée dès que possible \nIntervenants : M. le Bâtonnier Laurent PAYEN et Me Marie BRIOT \nDate – lieu : vendredi 20 mars 2020 de 14h à 16h – Maison de l’avocat – 24 rue Jean Cocteau – 97490 SAINT-DENIS \nFormation de niveau 2 \nTarif : 30 €
URL:https://eda-reunion-mayotte.fr/event/atelier-deontologie-et-droit-penal-les-relations-avocats-magistrats-opj-presse/
LOCATION:Saint-Denis – Maison de l’Avocat\, 24 Rue Jean Cocteau\, Saint-Denis\, 97400\, Réunion
CATEGORIES:Droit pénal
ATTACH;FMTTYPE=image/jpeg:https://eda-reunion-mayotte.fr/wp-content/uploads/2019/03/campaign-creators-1166997-unsplash.jpg
END:VEVENT
END:VCALENDAR