BEGIN:VCALENDAR
VERSION:2.0
PRODID:-//Association Ecole des Avocats - ECPv6.13.2.1//NONSGML v1.0//EN
CALSCALE:GREGORIAN
METHOD:PUBLISH
X-ORIGINAL-URL:https://eda-reunion-mayotte.fr
X-WR-CALDESC:Évènements pour Association Ecole des Avocats
REFRESH-INTERVAL;VALUE=DURATION:PT1H
X-Robots-Tag:noindex
X-PUBLISHED-TTL:PT1H
BEGIN:VTIMEZONE
TZID:Indian/Reunion
BEGIN:STANDARD
TZOFFSETFROM:+0400
TZOFFSETTO:+0400
TZNAME:+04
DTSTART:20200101T000000
END:STANDARD
END:VTIMEZONE
BEGIN:VEVENT
DTSTART;TZID=Indian/Reunion:20200228T090000
DTEND;TZID=Indian/Reunion:20200228T120000
DTSTAMP:20260421T220556
CREATED:20200116T025022Z
LAST-MODIFIED:20200301T114007Z
UID:6534-1582880400-1582891200@eda-reunion-mayotte.fr
SUMMARY:Droit électoral
DESCRIPTION:Intitulé : Droit électoral\nFormateur : M. le Président du Tribunal administratif de la Réunion\, M. Gil CORNEVAUX\nLieu : Tribunal administratif de la Réunion\nDate : 28/2/2020 de 9h à 12h\nNombre de places : 40\n\nQuelques semaines avant les échéances électorales municipales de mars 2020\, cette formation a pour objectif de préciser les règles applicables en droit électoral\, la procédure contentieuse spéciale applicable devant le TA et un panorama des décisions juridictionnelles récentes importantes.
URL:https://eda-reunion-mayotte.fr/event/droit-electoral/
LOCATION:Saint-Denis – Tribunal administratif de la Réunion\, 27 rue Félix Guyon\, Saint Denis\, 97404\, Réunion
CATEGORIES:Générale
ATTACH;FMTTYPE=image/jpeg:https://eda-reunion-mayotte.fr/wp-content/uploads/2019/03/samuel-zeller-4138-unsplash.jpg
END:VEVENT
END:VCALENDAR