BEGIN:VCALENDAR
VERSION:2.0
PRODID:-//Association Ecole des Avocats - ECPv6.13.2.1//NONSGML v1.0//EN
CALSCALE:GREGORIAN
METHOD:PUBLISH
X-ORIGINAL-URL:https://eda-reunion-mayotte.fr
X-WR-CALDESC:Évènements pour Association Ecole des Avocats
REFRESH-INTERVAL;VALUE=DURATION:PT1H
X-Robots-Tag:noindex
X-PUBLISHED-TTL:PT1H
BEGIN:VTIMEZONE
TZID:Indian/Reunion
BEGIN:STANDARD
TZOFFSETFROM:+0400
TZOFFSETTO:+0400
TZNAME:+04
DTSTART:20200101T000000
END:STANDARD
END:VTIMEZONE
BEGIN:VEVENT
DTSTART;TZID=Indian/Reunion:20200219T090000
DTEND;TZID=Indian/Reunion:20200219T170000
DTSTAMP:20260421T153306
CREATED:20191220T051534Z
LAST-MODIFIED:20200301T110525Z
UID:6420-1582102800-1582131600@eda-reunion-mayotte.fr
SUMMARY:Actualité de la procédure civile:  Réforme du tribunal judiciaire et actualité jurisprudentielle de la procédure d’appel
DESCRIPTION:Mercredi 19 Février 2020\nMAYOTTE – Mamoudzou – salle d’audience de la chambre d’appel ZI KAWENI\n120 euros\nAccueil 8h30\n9h-12h\nDéjeuner libre\n14h-17h\n\nPour la procédure d’appel: \nL’actualité jurisprudentielle de la réforme de 2017 \nPour la réforme de la procédure civile: \nLes nouveaux modes de saisine\, les nouvelles mentions obligatoires\, la répartition procédure écrite / procédure orale au sein du tribunal judiciaire\, les affaires sans audience\, les délais de placement\, l’audience d’orientation\, les MARD.
URL:https://eda-reunion-mayotte.fr/event/actualite-de-la-procedure-civile-reforme-du-tribunal-judiciaire-et-actualite-jurisprudentielle-de-la-procedure-dappel/
LOCATION:Mamoudzou\, Mamoudzou\, 97600\, Mayotte
CATEGORIES:Procédure civile
ATTACH;FMTTYPE=image/jpeg:https://eda-reunion-mayotte.fr/wp-content/uploads/2019/03/samuel-zeller-4138-unsplash.jpg
END:VEVENT
END:VCALENDAR