BEGIN:VCALENDAR
VERSION:2.0
PRODID:-//Association Ecole des Avocats - ECPv6.13.2.1//NONSGML v1.0//EN
CALSCALE:GREGORIAN
METHOD:PUBLISH
X-WR-CALNAME:Association Ecole des Avocats
X-ORIGINAL-URL:https://eda-reunion-mayotte.fr
X-WR-CALDESC:Évènements pour Association Ecole des Avocats
REFRESH-INTERVAL;VALUE=DURATION:PT1H
X-Robots-Tag:noindex
X-PUBLISHED-TTL:PT1H
BEGIN:VTIMEZONE
TZID:Indian/Reunion
BEGIN:STANDARD
TZOFFSETFROM:+0400
TZOFFSETTO:+0400
TZNAME:+04
DTSTART:20210101T000000
END:STANDARD
END:VTIMEZONE
BEGIN:VEVENT
DTSTART;TZID=Indian/Reunion:20211006T203000
DTEND;TZID=Indian/Reunion:20211015T203000
DTSTAMP:20260420T212135
CREATED:20210910T144643Z
LAST-MODIFIED:20211026T104325Z
UID:8876-1633552200-1634329800@eda-reunion-mayotte.fr
SUMMARY:Visios - Parcours Fiscal
DESCRIPTION:  \n\nPrérequis pour participer à la formation : aucun prérequis spécifique n’est nécessaire\nObjectifs poursuivis par la formation : acquérir les fondamentaux en conseil et en contentieux\nDate et durée :\n\nle 6 octobre 2021 de 20h à 23h heure de la Réunion : Présentation du parcours fiscal : le rôle de l’avocat fiscaliste /ses missions / échanges et partages d’expériences\nle 7 octobre 2021 de 20h à 22h heure de la Réunion : Savoir réaliser un audit fiscal : introduction sur les audits et la méthodologie et la rédaction d’un rapport d’audit\nle 7 octobre 2021 de 22h à minuit heure de la Réunion : Fiscalité internationale en comprendre les enjeux\nle 8 octobre 2021 de 20h à 22h heure de la Réunion : Savoir accompagner son client dirigeant en prévision de la transmission de son entreprise\nle 8 octobre 2021 de 22h à minuit heure de la Réunion : Savoir conseiller son client dans le cadre de l’acquisition et de la détention d’un patrimoine immobilier\nle 11 octobre 2021 de 20h à 22h heure de la Réunion : Savoir mettre en œuvre une documentation prix de transfert\nle 11 octobre 2021 de 22h à minuit heure de la Réunion : Savoir lire un bilan dans le cadre des opérations de restructuration (ou de haut de bilan)\nle 12 octobre 2021 de 20h à 22h heure de la Réunion : Connaître les différentes procédures de contrôle fiscal et la façon de les prendre en charge\nle 12 octobre 2021 de 22h à minuit heure de la Réunion : Savoir accompagner son client à l’occasion d’un contrôle fiscal (préparer la venue du vérificateur\, anticiper la réunion de clôture\, saisine des commissions et importance des recours gracieux)\nle 13 octobre 2021 de 20h à 22h heure de la Réunion : Savoir mener un contentieux devant le Tribunal administratif et la Cour Administrative d’appel (de la phase contentieux de la réclamation à la contestation en justice)\nle 13 octobre 2021 de 22h à minuit heure de la Réunion : Droit pénal fiscal : approche pratique et regards croisés défense / poursuite\nle 14 octobre 2021 de 20h à 22h heure de la Réunion : Savoir suivre un pourvoi en cassation\, et savoir contester un texte fiscal au regard des normes supérieures (illégalité\, inconstitutionnalité\, incompatibilité avec le droit de l’UE et la CEDH)\nle 14 octobre 2021 de 22h à minuit heure de la Réunion : Savoir assister et défendre son client dans le cadre d’une procédure de L16B\n\n\nModalités et délais d’accès :\n\nFormation en visio – les liens de connexion seront communiqués avant la formation\, uniquement par mail sur l’adresse renseignée lors de l’inscription\nInscription et paiement : obligatoirement via le site internet de l’EDA REUNION-MAYOTTE\n\n\nTarifs : 100€ TTC\nContacts :\ncontact@eda-reunion-mayotte.fr\nEDA REUNION MAYOTTTE\n24 rue Jean Cocteau\n97490 SAINTE-CLOTILDE\nMéthodes mobilisées et modalités d’évaluation :\n\nMéthode transmissive. Notre pédagogie favorise l’interactivité entre participants et intervenants via un tchat.\nModalités d’évaluation : questionnaire de fin de journée corrigé par le formateur en fin de formation\n\n\nAccessibilité aux personnes handicapées : Formation accessible aux personnes handicapées (tous handicaps)\n\nPlan détaillé : à venir \nCette formation est organisée dans le cadre du partenariat en cours de constitution entre l’EFB et l’EDA Réunion-Mayotte
URL:https://eda-reunion-mayotte.fr/event/visios-parcours-fiscal/
CATEGORIES:Droit fiscal et droit douanier
ATTACH;FMTTYPE=image/jpeg:https://eda-reunion-mayotte.fr/wp-content/uploads/2019/03/shutterstock_1043656987.jpg
END:VEVENT
END:VCALENDAR