BEGIN:VCALENDAR
VERSION:2.0
PRODID:-//Association Ecole des Avocats - ECPv6.13.2.1//NONSGML v1.0//EN
CALSCALE:GREGORIAN
METHOD:PUBLISH
X-WR-CALNAME:Association Ecole des Avocats
X-ORIGINAL-URL:https://eda-reunion-mayotte.fr
X-WR-CALDESC:Évènements pour Association Ecole des Avocats
REFRESH-INTERVAL;VALUE=DURATION:PT1H
X-Robots-Tag:noindex
X-PUBLISHED-TTL:PT1H
BEGIN:VTIMEZONE
TZID:Indian/Reunion
BEGIN:STANDARD
TZOFFSETFROM:+0400
TZOFFSETTO:+0400
TZNAME:+04
DTSTART:20260101T000000
END:STANDARD
END:VTIMEZONE
BEGIN:VEVENT
DTSTART;TZID=Indian/Reunion:20260417T090000
DTEND;TZID=Indian/Reunion:20260417T170000
DTSTAMP:20260425T172847
CREATED:20260305T142513Z
LAST-MODIFIED:20260421T090637Z
UID:15727-1776416400-1776445200@eda-reunion-mayotte.fr
SUMMARY:Le partage amiable : l'art de réinventer la négociation entre avocats
DESCRIPTION:Intervenants :  \n\n\n\n\n\nMaître Marion RIESS-VALERIUS\, Avocate à la Cour\, Professionnel Qualifié du règlement des intérêts pécuniaires des époux et des successions\, membre de l’Association Française du Droit de la Famille et du Patrimoine\, arbitre en droit familial patrimonial\nMandataire en vente immobilière\, médiatrice près la Cour d’Appel\nNégociatrice en résolution des conflits (Ecole d’Harvard)\, coach certifiée HEC Paris\n\n\n\n\n\nThèmes traités lors de la formation :  \n\n\n\n\n\nProcédure judiciaire\n\nPrérequis pour participer à la formation : \n\n\n\n\n\n\n\n\n\nAVOCAT\, tous niveaux\n\n\n\n\n\n\n\n\n\nObjectifs poursuivis par la formation : \n\nComprendre les principes fondamentaux du partage amiable\, son cadre juridique et ses avantages dans la résolution des différends entre parties représentées par avocats.\nDévelopper des compétences avancées en négociation\, en adoptant une approche collaborative plutôt que contentieuse.\nMaîtriser les techniques permettant de créer un climat de confiance propice à l’échange\, à l’écoute active et à la recherche d’accords durables.\nOptimiser la communication entre avocats afin de fluidifier les discussions et d’améliorer la qualité des accords conclus dans l’intérêt des clients.\nIdentifier les outils et méthodes pratiques permettant de structurer efficacement un partage amiable (préparation\, gestion des échanges\, formalisation).\nPrévenir les situations de blocage et gérer les tensions\, notamment en adoptant des stratégies d’apaisement et de médiation.\nRenforcer les réflexes déontologiques propres au rôle de l’avocat dans un processus amiable\, dans le respect des droits et intérêts des parties.\nRéinventer la place de l’avocat dans la négociation\, en valorisant son rôle de facilitateur plutôt que de simple représentant contentieux\n\n\n\n\n\nDate / durée :  \n\nDate : 17 avril 2026\nDurée : 6h\nHoraires: 9h-12h et 14h-17h\nAccueil des participants des 8h30 avec pause-café et viennoiseries\n\nModalités et délais d’accès :  \nLieu de la formation : Hôtel Latitude 21\n196\, Chemin Summer\, Saint-Gilles Les Bains 97434 \nInscription et paiement : obligatoirement via le site internet de l’EDA REUNION-MAYOTTE \nTarifs : \n\n100€\n125€ avec déjeuner compris\n\nContacts :  \ncontact@eda-reunion-mayotte.fr\nEDA REUNION MAYOTTTE\n24 rue Jean Cocteau\n97490 SAINTE-CLOTILDE \nMéthodes mobilisées et modalités d’évaluation : \n\nModalités d’évaluation : questionnaire écrit de fin de formation corrigé par le formateur en fin de formation.\n\nAccessibilité aux personnes handicapées :  \nFormation accessible aux personnes handicapées (tous handicaps)
URL:https://eda-reunion-mayotte.fr/event/le-partage-amiable-lart-de-reinventer-la-negociation-entre-avocats/
LOCATION:Hotel Latitude 21\, 196\, chemin Summer\, Saint-Gilles Les Bains\, 97434\, Reunion
CATEGORIES:Générale
ATTACH;FMTTYPE=image/jpeg:https://eda-reunion-mayotte.fr/wp-content/uploads/2019/05/jason-wong-502099-unsplash-small.jpg
END:VEVENT
END:VCALENDAR