BEGIN:VCALENDAR
VERSION:2.0
PRODID:-//Association Ecole des Avocats - ECPv6.13.2.1//NONSGML v1.0//EN
CALSCALE:GREGORIAN
METHOD:PUBLISH
X-WR-CALNAME:Association Ecole des Avocats
X-ORIGINAL-URL:https://eda-reunion-mayotte.fr
X-WR-CALDESC:Évènements pour Association Ecole des Avocats
REFRESH-INTERVAL;VALUE=DURATION:PT1H
X-Robots-Tag:noindex
X-PUBLISHED-TTL:PT1H
BEGIN:VTIMEZONE
TZID:Indian/Reunion
BEGIN:STANDARD
TZOFFSETFROM:+0400
TZOFFSETTO:+0400
TZNAME:+04
DTSTART:20260101T000000
END:STANDARD
END:VTIMEZONE
BEGIN:VEVENT
DTSTART;TZID=Indian/Reunion:20260416T170000
DTEND;TZID=Indian/Reunion:20260416T190000
DTSTAMP:20260425T192022
CREATED:20260407T060459Z
LAST-MODIFIED:20260417T114040Z
UID:15843-1776358800-1776366000@eda-reunion-mayotte.fr
SUMMARY:L’action publique sobre
DESCRIPTION:Intervenants :  \n\n\n\n\n\nRémi Radiguet\, MCF de droit public\,Université de La Réunion\nOlivier Desaulny\, Pr de droit public\, Université de La Réunion\nCyrielle Lana et Ophélie Malet\,Maison de l’Emploi Nord de La Réunion\nHélène Hoepffner\, Pr de droit public\, Université Paris 1 Panthéon-Sorbonne\n\n\n\n\n\nThèmes traités lors de la formation :  \n\n\n\n\n\nSobriété financière des personnes publiques\nAction publique et solidarité\nFresque du climat et achats responsables\nSobriété économique publique et contraintes\n\nPrérequis pour participer à la formation : \n\n\n\n\n\n\n\n\n\nAVOCAT\n\n\n\n\n\n\n\n\n\nObjectifs poursuivis par la formation : \n\nComprendre les exigences de sobriété financière imposées aux personnes publiques\nAnalyser la manière dont l’action publique peut intégrer la solidarité\nExplorer des retours d’expériences concrets (fresque du climat\, achats responsables)\nIdentifier les fondements et limites de la sobriété économique publique\nDévelopper une réflexion critique sur les politiques publique sobres\n\n\n\n\n\nDate / durée :  \n\nDate : 16 avril 2026\nDurée : 2h\nHoraires: 17h-19h\n\nModalités et délais d’accès :  \n\nLieu de la formation : Amphithéâtre D2\, Faculté de Droit et d’Economie – Campus du Moufia\nInscription et paiement : obligatoirement via le site internet de l’EDA REUNION-MAYOTTE\n\nTarifs : \n\nGratuit\n\nContacts :  \ncontact@eda-reunion-mayotte.fr\nEDA REUNION MAYOTTTE\n24 rue Jean Cocteau\n97490 SAINTE-CLOTILDE \nMéthodes mobilisées et modalités d’évaluation : \n\nMéthodes de formation mobilisées : Exposés des grands principes par les intervenants et échanges avec les participants.\n\nAccessibilité aux personnes handicapées :  \nFormation accessible aux personnes handicapées (tous handicaps)
URL:https://eda-reunion-mayotte.fr/event/laction-publique-sobre/
LOCATION:Université de la Réunion – Campus du Moufia\, 15 avenue René Cassin\, Saint-Denis\, 97400\, Réunion
CATEGORIES:Générale
ATTACH;FMTTYPE=image/jpeg:https://eda-reunion-mayotte.fr/wp-content/uploads/2019/05/jason-wong-502099-unsplash-small.jpg
END:VEVENT
END:VCALENDAR