BEGIN:VCALENDAR
VERSION:2.0
PRODID:-//Association Ecole des Avocats - ECPv6.13.2.1//NONSGML v1.0//EN
CALSCALE:GREGORIAN
METHOD:PUBLISH
X-WR-CALNAME:Association Ecole des Avocats
X-ORIGINAL-URL:https://eda-reunion-mayotte.fr
X-WR-CALDESC:Évènements pour Association Ecole des Avocats
REFRESH-INTERVAL;VALUE=DURATION:PT1H
X-Robots-Tag:noindex
X-PUBLISHED-TTL:PT1H
BEGIN:VTIMEZONE
TZID:Indian/Reunion
BEGIN:STANDARD
TZOFFSETFROM:+0400
TZOFFSETTO:+0400
TZNAME:+04
DTSTART:20240101T000000
END:STANDARD
END:VTIMEZONE
BEGIN:VEVENT
DTSTART;TZID=Indian/Reunion:20240628T090000
DTEND;TZID=Indian/Reunion:20240628T120000
DTSTAMP:20260423T185427
CREATED:20240621T115652Z
LAST-MODIFIED:20240724T071945Z
UID:13690-1719565200-1719576000@eda-reunion-mayotte.fr
SUMMARY:Garde à vue – Audition Libre – Retenue Douanière
DESCRIPTION:Intervenants :  \n\n\n\n\n\nMe Morgan POULY\nMe Julien BARRACO\n\n\n\n\n\nThèmes traités lors de la formation :  \n\n\n\n\n\nGarde à vue – Audition Libre – Retenue Douanière\n\n\n\n\n\nPrérequis pour participer à la formation :  \n\n\n\n\n\nAvocat \, tous niveaux\n\n\n\n\n\n\n\n\n\nObjectifs poursuivis par la formation : \nObjectifs : permettre à l’avocat intervenant dans le cadre des permanences pénales d’améliorer ses réflexes en garde à vue\, audition libre et retenue douanière \nPlan : \nI. L’intervention en GAV\nII. L’intervention en audition libre\nIII. L’intervention en retenue douanière\nIV. Échanges et questions diverses \n\n\n\n\nDate / durée :  \n\nDate : 28 juin 2024\nDurée : 3h\nHoraires: 9h – 12h\n\nModalités et délais d’accès :  \nLieu de la formation : Maison de l’Avocat – Salle du Conseil de l’Ordre \nInscription et paiement : obligatoirement via le site internet de l’EDA REUNION-MAYOTTE \nTarifs : 30€ \nContacts :  \ncontact@eda-reunion-mayotte.fr\nEDA REUNION MAYOTTTE\n24 rue Jean Cocteau\n97490 SAINTE-CLOTILDE \nMéthodes mobilisées et modalités d’évaluation : \n\n\n\n\n\nModalités d’évaluation : questionnaire écrit de fin de formation corrigé par le formateur.\n\n\n\n\n\nAccessibilité aux personnes handicapées :  \nFormation accessible aux personnes handicapées (tous handicaps)
URL:https://eda-reunion-mayotte.fr/event/formation-garde-a-vue-audition-libre/
LOCATION:Saint-Denis – Maison de l’Avocat\, 24 Rue Jean Cocteau\, Saint-Denis\, 97400\, Réunion
CATEGORIES:Droit pénal
ATTACH;FMTTYPE=image/jpeg:https://eda-reunion-mayotte.fr/wp-content/uploads/2019/05/shutterstock_165056954.jpg
END:VEVENT
BEGIN:VEVENT
DTSTART;TZID=Indian/Reunion:20240628T140000
DTEND;TZID=Indian/Reunion:20240628T170000
DTSTAMP:20260423T185427
CREATED:20240621T115125Z
LAST-MODIFIED:20240724T072514Z
UID:13687-1719583200-1719594000@eda-reunion-mayotte.fr
SUMMARY:Les audiences devant le tribunal correctionnel
DESCRIPTION:Intervenants :  \n\n\n\n\n\nMe Dévaguy MARDAYE\nMe Morgan POULY\n\n\n\n\n\nThèmes traités lors de la formation :  \n\n\n\n\n\nLes audiences devant le tribunal correctionnel\n\n\n\n\n\nPrérequis pour participer à la formation :  \n\n\n\n\n\nAvocat \, tous niveaux\n\n\n\n\n\n\n\n\n\nObjectifs poursuivis par la formation : \nAméliorer ses réflexes en matière correctionnelle dans le cadre de la permanence pénale \n\nTribunal correctionnel\nRappel des bases\nL’intervention en permanence pénale\nCPPVCJ\, Comparution immédiate et CI à délai différé\nRappel des bases\nL’intervention en permanence pénale\nComparution sur reconnaissance préalable de culpabilité\nRappel des bases\nL’intervention en permanence pénale\n\n\n\n\n\nDate / durée :  \n\nDate : 28 juin 2024\nDurée : 3h\nHoraires: 14h – 17h\n\nModalités et délais d’accès :  \nLieu de la formation : Maison de l’Avocat – Salle du Conseil de l’Ordre \nInscription et paiement : obligatoirement via le site internet de l’EDA REUNION-MAYOTTE \nTarifs : 30€ \nContacts :  \ncontact@eda-reunion-mayotte.fr\nEDA REUNION MAYOTTTE\n24 rue Jean Cocteau\n97490 SAINTE-CLOTILDE \nMéthodes mobilisées et modalités d’évaluation : \n\n\n\n\n\nModalités d’évaluation : questionnaire écrit de fin de formation corrigé par le formateur.\n\n\n\n\n\nAccessibilité aux personnes handicapées :  \nFormation accessible aux personnes handicapées (tous handicaps)
URL:https://eda-reunion-mayotte.fr/event/cycle-permanence-penale-module-le-tribunal-correctionnel-2/
LOCATION:Saint-Denis – Maison de l’Avocat\, 24 Rue Jean Cocteau\, Saint-Denis\, 97400\, Réunion
CATEGORIES:Droit pénal
ATTACH;FMTTYPE=image/jpeg:https://eda-reunion-mayotte.fr/wp-content/uploads/2019/05/shutterstock_165056954.jpg
END:VEVENT
END:VCALENDAR