BEGIN:VCALENDAR
VERSION:2.0
PRODID:-//Association Ecole des Avocats - ECPv6.13.2.1//NONSGML v1.0//EN
CALSCALE:GREGORIAN
METHOD:PUBLISH
X-ORIGINAL-URL:https://eda-reunion-mayotte.fr
X-WR-CALDESC:Évènements pour Association Ecole des Avocats
REFRESH-INTERVAL;VALUE=DURATION:PT1H
X-Robots-Tag:noindex
X-PUBLISHED-TTL:PT1H
BEGIN:VTIMEZONE
TZID:Indian/Reunion
BEGIN:STANDARD
TZOFFSETFROM:+0400
TZOFFSETTO:+0400
TZNAME:+04
DTSTART:20240101T000000
END:STANDARD
END:VTIMEZONE
BEGIN:VEVENT
DTSTART;TZID=Indian/Reunion:20240426T090000
DTEND;TZID=Indian/Reunion:20240426T120000
DTSTAMP:20260425T154859
CREATED:20240402T143118Z
LAST-MODIFIED:20240528T055649Z
UID:13410-1714122000-1714132800@eda-reunion-mayotte.fr
SUMMARY:Mes premiers pas au palais : aspects pratiques
DESCRIPTION:Intervenants :  \n\n\n\n\n\nMe Catherine MOISONNIER (MCO)\nMe Annabelle FEGEAT (MCO)\n\n\n\n\n\nThèmes traités lors de la formation :  \n\n\n\n\n\nFormalités à accomplir après la prestation de serment et l’arrivée au Barreau : démarches administratives auprès de l’Ordre et de la CARPA\,  ( carte avocat\, cartes d’accès palais et CA\, obtention Toque\, compte CARPA\, clé RPVA\,  numéro CNBF\, compte avocat CARPA\, compte BAROTECH\, Compte PLEX\, etc…)\nDémarches administratives\, fiscales\, sociales :  CFE\, URSSAF\, ACRE\, etc \, régime fiscal\, adhésions obligatoires facultatives\, déclarations de revenus\,  comptes bancaires\, TVA\, etc\nPrésentation des différentes permanences :\nPénales Majeurs\nPénales Mineurs\,\nParties civiles et VIF\nHospitalisation sous contrainte\,\nDroit des étrangers\nConsultations gratuites Maison de l’avocat\, Mairies\, Points d’accès au droit\, etc…\nModalités d’inscription et de formations préalables pour les différentes permanences\nModalités d’inscription sur la liste des désignations à l’aide juridictionnelle\nModalités de règlement des AFM.\n\n\n\n\n\nPrérequis pour participer à la formation :  \n\n\n\n\n\nAvocat \, débutants\n\n\n\n\n\n\n\n\n\nObjectifs poursuivis par la formation : \n\n\n\nCette formation destinée aux nouveaux arrivants au Barreau (non seulement ceux qui ont prêté serment depuis décembre 2023\, mais également ceux qui ont rejoint le Barreau récemment).\n\n\n\n\n\n\n\nDate / durée :  \n\nDate : 26 avril 2024\nDurée : 3h\nHoraires: 9h – 12h\n\nModalités et délais d’accès :  \nLieu de la formation : Maison de l’avocat \nInscription et paiement : obligatoirement via le site internet de l’EDA REUNION-MAYOTTE \nTarifs : 30€ \nContacts :  \ncontact@eda-reunion-mayotte.fr\nEDA REUNION MAYOTTTE\n24 rue Jean Cocteau\n97490 SAINTE-CLOTILDE \nMéthodes mobilisées et modalités d’évaluation :  \n\n\n\n\n\nMéthodes de formation mobilisées : Exposés des grands principes par les intervenants et échanges avec les participants.\nModalités d’évaluation : questionnaire oral de fin de formation corrigé par le formateur.\n\n\n\n\n\nAccessibilité aux personnes handicapées :  \nFormation accessible aux personnes handicapées (tous handicaps)
URL:https://eda-reunion-mayotte.fr/event/mes-premiers-pas-au-palais-aspects-pratiques/
LOCATION:Saint-Denis – Maison de l’Avocat\, 24 Rue Jean Cocteau\, Saint-Denis\, 97400\, Réunion
CATEGORIES:Générale
ATTACH;FMTTYPE=image/jpeg:https://eda-reunion-mayotte.fr/wp-content/uploads/2019/03/campaign-creators-1166997-unsplash.jpg
END:VEVENT
END:VCALENDAR