BEGIN:VCALENDAR
VERSION:2.0
PRODID:-//Association Ecole des Avocats - ECPv6.13.2.1//NONSGML v1.0//EN
CALSCALE:GREGORIAN
METHOD:PUBLISH
X-WR-CALNAME:Association Ecole des Avocats
X-ORIGINAL-URL:https://eda-reunion-mayotte.fr
X-WR-CALDESC:Évènements pour Association Ecole des Avocats
REFRESH-INTERVAL;VALUE=DURATION:PT1H
X-Robots-Tag:noindex
X-PUBLISHED-TTL:PT1H
BEGIN:VTIMEZONE
TZID:Indian/Reunion
BEGIN:STANDARD
TZOFFSETFROM:+0400
TZOFFSETTO:+0400
TZNAME:+04
DTSTART:20240101T000000
END:STANDARD
END:VTIMEZONE
BEGIN:VEVENT
DTSTART;TZID=Indian/Reunion:20240419T143000
DTEND;TZID=Indian/Reunion:20240419T170000
DTSTAMP:20260425T154534
CREATED:20240412T163354Z
LAST-MODIFIED:20250210T145202Z
UID:13556-1713537000-1713546000@eda-reunion-mayotte.fr
SUMMARY:Cycle Permanence pénale : module  « Les audiences devant le Juge d’application des peines »
DESCRIPTION:Intervenants :  \n\n\n\n\n\nMe Dévaguy MARDAYE\nMadame Nathalie DEBUIRE (JAP)\nMadame DAIL (SPIP)\n\n\n\n\n\nThèmes traités lors de la formation :  \n\n\n\n\nLe rôle de l’avocat devant :\n– Le juge d’application des peines\n– Le tribunal d’application des peines\n– La commission d’application des peines\n– La chambre d’application des peines \n\nVous pouvez télécharger le programme complet de la formation en cliquant ici : Formation – Module JAP du 19 avril 2024 EDA \n\n\n\nPrérequis pour participer à la formation :  \n\n\n\n\n\nAvocat \, tous niveaux\n\n\n\n\n\n\n\n\n\nObjectifs poursuivis par la formation : \n\nAcquérir les réflexes nécessaires lors de l’intervention devant les instances d’application des peines\nConnaître les fondamentaux du droit applicable\nMaîtriser les enjeux\n\n\n\n\n\nDate / durée :  \n\nDate : 19 avril 2024\nDurée : 3h\nHoraires: 14h30 – 17h\n\nModalités et délais d’accès :  \nLieu de la formation : salle du conseil de l’ordre \nInscription et paiement : obligatoirement via le site internet de l’EDA REUNION-MAYOTTE \nTarifs : 30€ \nContacts :  \ncontact@eda-reunion-mayotte.fr\nEDA REUNION MAYOTTTE\n24 rue Jean Cocteau\n97490 SAINTE-CLOTILDE \nMéthodes mobilisées et modalités d’évaluation :  \n\n\n\n\n\n\nModalités d’évaluation : questionnaire écrit de fin de formation corrigé par le formateur en fin de formation \n\n\n\n\n\n\nAccessibilité aux personnes handicapées :  \nFormation accessible aux personnes handicapées (tous handicaps)
URL:https://eda-reunion-mayotte.fr/event/cycle-permanence-penale-module-les-audiences-devant-le-juge-dapplication-des-peines/
LOCATION:Salle du conseil de l’ordre
CATEGORIES:Droit pénal
ATTACH;FMTTYPE=image/jpeg:https://eda-reunion-mayotte.fr/wp-content/uploads/2019/05/shutterstock_165056954.jpg
END:VEVENT
END:VCALENDAR