BEGIN:VCALENDAR
VERSION:2.0
PRODID:-//Association Ecole des Avocats - ECPv6.13.2.1//NONSGML v1.0//EN
CALSCALE:GREGORIAN
METHOD:PUBLISH
X-ORIGINAL-URL:https://eda-reunion-mayotte.fr
X-WR-CALDESC:Évènements pour Association Ecole des Avocats
REFRESH-INTERVAL;VALUE=DURATION:PT1H
X-Robots-Tag:noindex
X-PUBLISHED-TTL:PT1H
BEGIN:VTIMEZONE
TZID:Indian/Reunion
BEGIN:STANDARD
TZOFFSETFROM:+0400
TZOFFSETTO:+0400
TZNAME:+04
DTSTART:20230101T000000
END:STANDARD
END:VTIMEZONE
BEGIN:VEVENT
DTSTART;VALUE=DATE:20231107
DTEND;VALUE=DATE:20231110
DTSTAMP:20260426T004712
CREATED:20230920T171844Z
LAST-MODIFIED:20230920T171844Z
UID:12284-1699315200-1699574399@eda-reunion-mayotte.fr
SUMMARY:PACK FORMATION 4 JOURS - Validant 24h de formations
DESCRIPTION:Ce pack permet de s’inscrire à 4 jours complets de formation en validant 24h de formations et en bénéficiant d‘un tarif préférentiel. \nUn fois inscrit au PACK\, un code vous sera communiqué pour vous inscrire à la formation souhaitée.  \nPrérequis pour participer à la formation :  \n\n\n\n\n\nAvocat \, tous niveaux\n\n\n\n\n\n\n\n\n\n\nDate / durée :  \n\nDate : du 7 au 9 novembre 2023\nDurée : 24h\nJournée de : 8H30 – 12H00 /14h – 17h.\nAccueil des participants : 8H30\nDébut de la formation : 9H\nUn petit déjeuner sera servi sur place. Pause-café à 10h15 et 15h15.\n\nModalités et délais d’accès :  \nLieu de la formation : Hôtel Le LUX – SAINT GILLES \nInscription et paiement : obligatoirement via le site internet de l’EDA REUNION-MAYOTTE \nTarifs : 350€ (Prise en charge possible en totalité par le FIFPL) \nContacts :  \ncontact@eda-reunion-mayotte.fr\nEDA REUNION MAYOTTTE\n24 rue Jean Cocteau\n97490 SAINTE-CLOTILDE \nMéthodes mobilisées et modalités d’évaluation :  \n\n\n\n\nModalités d’évaluation : questionnaire écrit de fin de formation corrigé par le formateur en fin de formation. \n\n\n\n\nAccessibilité aux personnes handicapées :  \nFormation accessible aux personnes handicapées (tous handicaps)
URL:https://eda-reunion-mayotte.fr/event/pack-formation-4-jours-validant-24h-de-formations/
LOCATION:Hôtel LUX\, 28 rue du Lagon\, Saint Gilles Les Bains\, 97434\, Réunion
CATEGORIES:Générale
ATTACH;FMTTYPE=image/jpeg:https://eda-reunion-mayotte.fr/wp-content/uploads/2019/04/steve-johnson-605822-unsplash.jpg
END:VEVENT
BEGIN:VEVENT
DTSTART;TZID=Indian/Reunion:20231108T083000
DTEND;TZID=Indian/Reunion:20231108T170000
DTSTAMP:20260426T004712
CREATED:20230915T071459Z
LAST-MODIFIED:20231206T083515Z
UID:12205-1699432200-1699462800@eda-reunion-mayotte.fr
SUMMARY:Droit de la construction : responsabilités et assurances
DESCRIPTION:Intervenant :  \n\n\n\n\n\nMe Cyrille CHARBONNEAU\nCyrille Charbonneau est docteur en droit\, avocat à la Cour et chargé de cours aux Université Paris I et Paris V. Il est l’auteur de nombreux articles et ouvrages en droit de la construction et a notamment coécrit avec Me Laurent Karila « Droit de la construction : responsabilités et assurances » publié chez Lexis Nexis.\n\n\n\n\n\nThèmes traités lors de la formation :  \n\n\n\n\n\nLes fondamentaux en droit de la construction : responsabilité et assurances\n\n\n\n\n\nPrérequis pour participer à la formation :  \n\n\n\n\n\nAvocat \, tous niveaux\n\n\n\n\n\n\n\n\n\nObjectifs poursuivis par la formation :  \n\n\n\n\n\nAcquérir les réflexes fondamentaux en matière de droit de la construction\, avec un focus sur les responsabilités et les assurances.\nMaîtriser les dernières évolutions en matière de responsabilité des acteurs de la construction. Analyser la jurisprudence récente et ses apports pratiques pour sécuriser ses pratiques.\n\n\n\n\n\n\n\n\n\nDate / durée :  \n\nDate : 8 novembre 2023\nDurée : 6h\nHoraires: 8h30-12h et 14h-17h\n\nModalités et délais d’accès :  \nLieu de la formation : Hôtel Le LUX – SAINT GILLES \nInscription et paiement : obligatoirement via le site internet de l’EDA REUNION-MAYOTTE \nTarifs : 150€ \nContacts :  \ncontact@eda-reunion-mayotte.fr\nEDA REUNION MAYOTTTE\n24 rue Jean Cocteau\n97490 SAINTE-CLOTILDE \nMéthodes mobilisées et modalités d’évaluation :  \n\n\n\n\nModalités d’évaluation : questionnaire écrit de fin de formation corrigé par le formateur en fin de formation. \n\n\n\n\nAccessibilité aux personnes handicapées :  \nFormation accessible aux personnes handicapées (tous handicaps)
URL:https://eda-reunion-mayotte.fr/event/droit-de-la-construction-responsabilites-et-assurances/
LOCATION:Hôtel LUX\, 28 rue du Lagon\, Saint Gilles Les Bains\, 97434\, Réunion
CATEGORIES:Générale
ATTACH;FMTTYPE=image/jpeg:https://eda-reunion-mayotte.fr/wp-content/uploads/2019/03/helloquence-61189-unsplash.jpg
END:VEVENT
BEGIN:VEVENT
DTSTART;TZID=Indian/Reunion:20231108T083000
DTEND;TZID=Indian/Reunion:20231108T170000
DTSTAMP:20260426T004712
CREATED:20230915T071909Z
LAST-MODIFIED:20231206T082453Z
UID:12208-1699432200-1699462800@eda-reunion-mayotte.fr
SUMMARY:MARD : LES FONDAMENTAUX DE LA MEDIATION
DESCRIPTION:Intervenant :  \n\n\n\n\n\nMe Hirbod DEHGHANI-AZAR\nMe Hirbod DEHGHANI-AZAR est membre du Conseil National des Barreaux et responsable de la Commission ad hoc MARD et membre de la commission formation.\nAncien Membre du Conseil de l’Ordre des Avocats à la Cour d’Appel de Paris et Expert sur les Modes Alternatifs de Règlements des Différends auprès de diverses institutions (Conseil National des Barreaux\, Conseil des Barreaux Européens\, Comité Justice administrative et Médiation au Conseil d’Etat).\nIl a été Président de l’Association des Médiateurs Européens.\n\n\n\n\n\nThèmes traités lors de la formation :  \n\n\n\n\nLes fondamentaux de la Médiation : La place de l’avocat dans les MARD et la place des MARD dans la stratégie judiciaire de l’avocat : \n\nLe cadre d’intervention de l’avocat (historique et fonctions)\nApproche de la négociation (définition et écoles)\nLa détection\, la prescription et l’accompagnement (choix du MARD)\nLa préparation et la facturation (outils de préparation et mise en œuvre pratique)\n\n\n\n\n\nPrérequis pour participer à la formation :  \n\n\n\n\n\nAvocat \, tous niveaux\n\n\n\n\n\n\n\n\n\nObjectifs poursuivis par la formation :  \n\n\n\n\n\nAcquérir les réflexes fondamentaux en matière de médiation\n\n\n\n\n\n\n\n\n\nDate / durée :  \n\nDate : 8 novembre 2023\nDurée : 6h\nHoraires: 8h30-12h et 14h-17h\n\nModalités et délais d’accès :  \nLieu de la formation : Hôtel Le LUX – SAINT GILLES \nInscription et paiement : obligatoirement via le site internet de l’EDA REUNION-MAYOTTE \nTarifs : 150€ \nContacts :  \ncontact@eda-reunion-mayotte.fr\nEDA REUNION MAYOTTTE\n24 rue Jean Cocteau\n97490 SAINTE-CLOTILDE \nMéthodes mobilisées et modalités d’évaluation :  \n\n\n\n\nModalités d’évaluation : questionnaire écrit de fin de formation corrigé par le formateur en fin de formation. \n\n\n\n\nAccessibilité aux personnes handicapées :  \nFormation accessible aux personnes handicapées (tous handicaps)
URL:https://eda-reunion-mayotte.fr/event/mard/
LOCATION:Hôtel LUX\, 28 rue du Lagon\, Saint Gilles Les Bains\, 97434\, Réunion
CATEGORIES:MARD / Médiation
ATTACH;FMTTYPE=image/jpeg:https://eda-reunion-mayotte.fr/wp-content/uploads/2019/03/campaign-creators-1166997-unsplash.jpg
END:VEVENT
END:VCALENDAR